{
 "currentVersion": 10.91,
 "serviceDescription": "",
 "mapName": "Layers",
 "description": "",
 "copyrightText": "",
 "supportsDynamicLayers": true,
 "layers": [
  {
   "id": 0,
   "name": "GISIMAGERYP.DBO.AERIAL2021",
   "parentLayerId": -1,
   "defaultVisibility": true,
   "subLayerIds": [
    1,
    2,
    3
   ],
   "minScale": 0,
   "maxScale": 0,
   "type": "Mosaic Layer"
  },
  {
   "id": 1,
   "name": "Boundary",
   "parentLayerId": 0,
   "defaultVisibility": false,
   "subLayerIds": null,
   "minScale": 0,
   "maxScale": 0,
   "type": "Feature Layer",
   "geometryType": "esriGeometryPolygon"
  },
  {
   "id": 2,
   "name": "Footprint",
   "parentLayerId": 0,
   "defaultVisibility": false,
   "subLayerIds": null,
   "minScale": 0,
   "maxScale": 0,
   "type": "Feature Layer",
   "geometryType": "esriGeometryPolygon"
  },
  {
   "id": 3,
   "name": "Image",
   "parentLayerId": 0,
   "defaultVisibility": true,
   "subLayerIds": null,
   "minScale": 0,
   "maxScale": 0,
   "type": "Raster Layer"
  }
 ],
 "tables": [],
 "spatialReference": {
  "wkid": 102100,
  "latestWkid": 3857
 },
 "singleFusedMapCache": true,
 "tileInfo": {
  "rows": 256,
  "cols": 256,
  "dpi": 96,
  "format": "MIXED",
  "compressionQuality": 75,
  "origin": {
   "x": -2.0037508342787E7,
   "y": 2.0037508342787E7
  },
  "spatialReference": {
   "wkid": 102100,
   "latestWkid": 3857
  },
  "lods": [
   {
    "level": 0,
    "resolution": 19567.87924099992,
    "scale": 7.3957190948944E7
   },
   {
    "level": 1,
    "resolution": 9783.93962049996,
    "scale": 3.6978595474472E7
   },
   {
    "level": 2,
    "resolution": 4891.96981024998,
    "scale": 1.8489297737236E7
   },
   {
    "level": 3,
    "resolution": 2445.98490512499,
    "scale": 9244648.868618
   },
   {
    "level": 4,
    "resolution": 1222.992452562495,
    "scale": 4622324.434309
   },
   {
    "level": 5,
    "resolution": 611.4962262813797,
    "scale": 2311162.217155
   },
   {
    "level": 6,
    "resolution": 305.74811314055756,
    "scale": 1155581.108577
   },
   {
    "level": 7,
    "resolution": 152.87405657041106,
    "scale": 577790.554289
   },
   {
    "level": 8,
    "resolution": 76.43702828507324,
    "scale": 288895.277144
   },
   {
    "level": 9,
    "resolution": 38.21851414253662,
    "scale": 144447.638572
   },
   {
    "level": 10,
    "resolution": 19.10925707126831,
    "scale": 72223.819286
   },
   {
    "level": 11,
    "resolution": 9.554628535634155,
    "scale": 36111.909643
   },
   {
    "level": 12,
    "resolution": 4.77731426794937,
    "scale": 18055.954822
   },
   {
    "level": 13,
    "resolution": 2.388657133974685,
    "scale": 9027.977411
   },
   {
    "level": 14,
    "resolution": 1.1943285668550503,
    "scale": 4513.988705
   },
   {
    "level": 15,
    "resolution": 0.5971642835598172,
    "scale": 2256.994353
   },
   {
    "level": 16,
    "resolution": 0.29858214164761665,
    "scale": 1128.497176
   },
   {
    "level": 17,
    "resolution": 0.13229193125052918,
    "scale": 500
   },
   {
    "level": 18,
    "resolution": 0.06614596562526459,
    "scale": 250
   },
   {
    "level": 19,
    "resolution": 0.033072982812632296,
    "scale": 125
   }
  ]
 },
 "initialExtent": {
  "xmin": -1.3584491839409634E7,
  "ymin": 4487916.73525096,
  "xmax": -1.3570420476291943E7,
  "ymax": 4496905.36374575,
  "spatialReference": {
   "wkid": 102100,
   "latestWkid": 3857
  }
 },
 "fullExtent": {
  "xmin": -1.358187059417159E7,
  "ymin": 4483801.032311963,
  "xmax": -1.3573034653450256E7,
  "ymax": 4497880.61155506,
  "spatialReference": {
   "wkid": 102100,
   "latestWkid": 3857
  }
 },
 "minScale": 144447.638572,
 "maxScale": 500,
 "minLOD": 9,
 "maxLOD": 17,
 "units": "esriMeters",
 "supportedImageFormatTypes": "PNG32,PNG24,PNG,JPG,DIB,TIFF,EMF,PS,PDF,GIF,SVG,SVGZ,BMP",
 "documentInfo": {
  "Title": "",
  "Author": "",
  "Comments": "",
  "Subject": "",
  "Category": "",
  "AntialiasingMode": "Normal",
  "TextAntialiasingMode": "Force",
  "Keywords": "Santa Clara,Aerial"
 },
 "capabilities": "Map,Query,Data",
 "supportedQueryFormats": "JSON, geoJSON",
 "exportTilesAllowed": false,
 "referenceScale": 0,
 "supportsDatumTransformation": true,
 "maxRecordCount": 10000,
 "maxImageHeight": 4096,
 "maxImageWidth": 4096,
 "supportedExtensions": "KmlServer",
 "resampling": false
}
