{
 "currentVersion": 10.91,
 "serviceDescription": "",
 "mapName": "Layers",
 "description": "",
 "copyrightText": "",
 "supportsDynamicLayers": true,
 "layers": [
  {
   "id": 0,
   "name": "GISIMAGERYP.DBO.AERIAL2023",
   "parentLayerId": -1,
   "defaultVisibility": true,
   "subLayerIds": [
    1,
    2,
    3
   ],
   "minScale": 0,
   "maxScale": 0,
   "type": "Mosaic Layer"
  },
  {
   "id": 1,
   "name": "Boundary",
   "parentLayerId": 0,
   "defaultVisibility": false,
   "subLayerIds": null,
   "minScale": 0,
   "maxScale": 0,
   "type": "Feature Layer",
   "geometryType": "esriGeometryPolygon"
  },
  {
   "id": 2,
   "name": "Footprint",
   "parentLayerId": 0,
   "defaultVisibility": false,
   "subLayerIds": null,
   "minScale": 0,
   "maxScale": 0,
   "type": "Feature Layer",
   "geometryType": "esriGeometryPolygon"
  },
  {
   "id": 3,
   "name": "Image",
   "parentLayerId": 0,
   "defaultVisibility": true,
   "subLayerIds": null,
   "minScale": 0,
   "maxScale": 0,
   "type": "Raster Layer"
  }
 ],
 "tables": [],
 "spatialReference": {
  "wkid": 103005,
  "latestWkid": 6420
 },
 "singleFusedMapCache": true,
 "tileInfo": {
  "rows": 256,
  "cols": 256,
  "dpi": 96,
  "format": "MIXED",
  "compressionQuality": 75,
  "origin": {
   "x": -115860600,
   "y": 151575000
  },
  "spatialReference": {
   "wkid": 103005,
   "latestWkid": 6420
  },
  "lods": [
   {
    "level": 0,
    "resolution": 108.50694444444444,
    "scale": 125000
   },
   {
    "level": 1,
    "resolution": 55.55555555555555,
    "scale": 64000
   },
   {
    "level": 2,
    "resolution": 27.777777777777775,
    "scale": 32000
   },
   {
    "level": 3,
    "resolution": 13.888888888888888,
    "scale": 16000
   },
   {
    "level": 4,
    "resolution": 6.944444444444444,
    "scale": 8000
   },
   {
    "level": 5,
    "resolution": 3.472222222222222,
    "scale": 4000
   },
   {
    "level": 6,
    "resolution": 1.6666666666666665,
    "scale": 1920
   },
   {
    "level": 7,
    "resolution": 0.8333333333333333,
    "scale": 960
   },
   {
    "level": 8,
    "resolution": 0.41666666666666663,
    "scale": 480
   },
   {
    "level": 9,
    "resolution": 0.20833333333333331,
    "scale": 240
   },
   {
    "level": 10,
    "resolution": 0.10416666666666666,
    "scale": 120
   }
  ]
 },
 "initialExtent": {
  "xmin": 6111917.101405099,
  "ymin": 1951072.3080133554,
  "xmax": 6158082.898567036,
  "ymax": 1980562.5,
  "spatialReference": {
   "wkid": 103005,
   "latestWkid": 6420
  }
 },
 "fullExtent": {
  "xmin": 6123749.999972135,
  "ymin": 1942500,
  "xmax": 6146250,
  "ymax": 1978750,
  "spatialReference": {
   "wkid": 103005,
   "latestWkid": 6420
  }
 },
 "minScale": 125000,
 "maxScale": 480,
 "minLOD": 0,
 "maxLOD": 8,
 "units": "esriFeet",
 "supportedImageFormatTypes": "PNG32,PNG24,PNG,JPG,DIB,TIFF,EMF,PS,PDF,GIF,SVG,SVGZ,BMP",
 "documentInfo": {
  "Title": "",
  "Author": "",
  "Comments": "",
  "Subject": "",
  "Category": "",
  "AntialiasingMode": "None",
  "TextAntialiasingMode": "Force",
  "Keywords": ""
 },
 "capabilities": "Map,Query,Data",
 "supportedQueryFormats": "JSON, geoJSON",
 "exportTilesAllowed": false,
 "referenceScale": 0,
 "supportsDatumTransformation": true,
 "maxRecordCount": 1000,
 "maxImageHeight": 4096,
 "maxImageWidth": 4096,
 "supportedExtensions": "KmlServer",
 "resampling": false
}
