{
 "currentVersion": 10.91,
 "serviceDescription": "Parcel level data describing zoning codes and general plan designations for the City of Santa Clara, the Center of What's Possible.",
 "mapName": "Layers",
 "description": "",
 "copyrightText": "City of Santa Clara",
 "supportsDynamicLayers": true,
 "layers": [
  {
   "id": 0,
   "name": "Fire District",
   "parentLayerId": -1,
   "defaultVisibility": true,
   "subLayerIds": null,
   "minScale": 0,
   "maxScale": 0,
   "type": "Feature Layer",
   "geometryType": "esriGeometryPolygon"
  }
 ],
 "tables": [],
 "spatialReference": {
  "wkid": 103005,
  "latestWkid": 6420
 },
 "singleFusedMapCache": true,
 "tileInfo": {
  "rows": 256,
  "cols": 256,
  "dpi": 96,
  "format": "PNG32",
  "compressionQuality": 0,
  "origin": {
   "x": -115860600,
   "y": 151575000
  },
  "spatialReference": {
   "wkid": 103005,
   "latestWkid": 6420
  },
  "lods": [
   {
    "level": 0,
    "resolution": 868.0555555555555,
    "scale": 1000000
   },
   {
    "level": 1,
    "resolution": 434.02777777777777,
    "scale": 500000
   },
   {
    "level": 2,
    "resolution": 217.01388888888889,
    "scale": 250000
   },
   {
    "level": 3,
    "resolution": 108.50694444444444,
    "scale": 125000
   },
   {
    "level": 4,
    "resolution": 55.55555555555555,
    "scale": 64000
   },
   {
    "level": 5,
    "resolution": 27.777777777777775,
    "scale": 32000
   },
   {
    "level": 6,
    "resolution": 13.888888888888888,
    "scale": 16000
   },
   {
    "level": 7,
    "resolution": 6.944444444444444,
    "scale": 8000
   },
   {
    "level": 8,
    "resolution": 3.472222222222222,
    "scale": 4000
   },
   {
    "level": 9,
    "resolution": 1.6666666666666665,
    "scale": 1920
   },
   {
    "level": 10,
    "resolution": 0.8333333333333333,
    "scale": 960
   },
   {
    "level": 11,
    "resolution": 0.41666666666666663,
    "scale": 480
   },
   {
    "level": 12,
    "resolution": 0.20833333333333331,
    "scale": 240
   },
   {
    "level": 13,
    "resolution": 0.10416666666666666,
    "scale": 120
   }
  ]
 },
 "initialExtent": {
  "xmin": 6107697.32578537,
  "ymin": 1953762.44225725,
  "xmax": 6163339.68689648,
  "ymax": 1985403.0672572495,
  "spatialReference": {
   "wkid": 103005,
   "latestWkid": 6420
  }
 },
 "fullExtent": {
  "xmin": 6124146.042150006,
  "ymin": 1943461.5661499947,
  "xmax": 6146094.783700004,
  "ymax": 1978375.175150007,
  "spatialReference": {
   "wkid": 103005,
   "latestWkid": 6420
  }
 },
 "minScale": 500000,
 "maxScale": 480,
 "minLOD": 1,
 "maxLOD": 11,
 "units": "esriFeet",
 "supportedImageFormatTypes": "PNG32,PNG24,PNG,JPG,DIB,TIFF,EMF,PS,PDF,GIF,SVG,SVGZ,BMP",
 "documentInfo": {
  "Title": "",
  "Author": "",
  "Comments": "Parcel level data describing zoning codes and general plan designations for the City of Santa Clara, the Center of What's Possible.",
  "Subject": "General Plan Designations and Zoning Codes, by parcel, for the City of Santa Clara",
  "Category": "",
  "AntialiasingMode": "None",
  "TextAntialiasingMode": "Force",
  "Keywords": "Santa Clara,Zoning,General Plan"
 },
 "capabilities": "Map,Query,Data",
 "supportedQueryFormats": "JSON, geoJSON",
 "exportTilesAllowed": false,
 "referenceScale": 0,
 "supportsDatumTransformation": true,
 "maxRecordCount": 1000,
 "maxImageHeight": 4096,
 "maxImageWidth": 4096,
 "supportedExtensions": "WFSServer, WMSServer"
}
