{
 "currentVersion": 10.91,
 "cimVersion": "2.9.0",
 "serviceDescription": "Parcel level data describing zoning codes and general plan designations for the City of Santa Clara, the Center of What's Possible.",
 "mapName": "Layers",
 "description": "Parcel level data describing zoning codes and general plan designations for the City of Santa Clara, the Center of What's Possible.",
 "copyrightText": "City of Santa Clara",
 "supportsDynamicLayers": true,
 "layers": [
  {
   "id": 0,
   "name": "GeneralPlanParcels",
   "parentLayerId": -1,
   "defaultVisibility": true,
   "subLayerIds": null,
   "minScale": 75000,
   "maxScale": 0,
   "type": "Feature Layer",
   "geometryType": "esriGeometryPolygon",
   "supportsDynamicLegends": true
  }
 ],
 "tables": [],
 "spatialReference": {
  "wkid": 103005,
  "latestWkid": 6420,
  "xyTolerance": 0.003280833333333333,
  "zTolerance": 0.001,
  "mTolerance": 0.001,
  "falseX": -115860600,
  "falseY": -93269500,
  "xyUnits": 3.678742734568671E7,
  "falseZ": -100000,
  "zUnits": 10000,
  "falseM": -100000,
  "mUnits": 10000
 },
 "singleFusedMapCache": true,
 "tileInfo": {
  "rows": 256,
  "cols": 256,
  "dpi": 96,
  "format": "PNG8",
  "compressionQuality": 0,
  "origin": {
   "x": -115860600,
   "y": 151575000
  },
  "spatialReference": {
   "wkid": 103005,
   "latestWkid": 6420,
   "xyTolerance": 0.003280833333333333,
   "zTolerance": 0.001,
   "mTolerance": 0.001,
   "falseX": -115860600,
   "falseY": -93269500,
   "xyUnits": 3.678742734568671E7,
   "falseZ": -100000,
   "zUnits": 10000,
   "falseM": -100000,
   "mUnits": 10000
  },
  "lods": [
   {
    "level": 0,
    "resolution": 434.02777777777777,
    "scale": 500000
   },
   {
    "level": 1,
    "resolution": 217.01388888888889,
    "scale": 250000
   },
   {
    "level": 2,
    "resolution": 108.50694444444444,
    "scale": 125000
   },
   {
    "level": 3,
    "resolution": 55.55555555555555,
    "scale": 64000
   },
   {
    "level": 4,
    "resolution": 27.777777777777775,
    "scale": 32000
   },
   {
    "level": 5,
    "resolution": 13.888888888888888,
    "scale": 16000
   },
   {
    "level": 6,
    "resolution": 6.944444444444444,
    "scale": 8000
   },
   {
    "level": 7,
    "resolution": 3.472222222222222,
    "scale": 4000
   },
   {
    "level": 8,
    "resolution": 1.6666666666666665,
    "scale": 1920
   },
   {
    "level": 9,
    "resolution": 0.8333333333333333,
    "scale": 960
   },
   {
    "level": 10,
    "resolution": 0.41666666666666663,
    "scale": 480
   },
   {
    "level": 11,
    "resolution": 0.20833333333333331,
    "scale": 240
   },
   {
    "level": 12,
    "resolution": 0.10416666666666666,
    "scale": 120
   }
  ]
 },
 "storageInfo": {
  "storageFormat": "esriMapCacheStorageModeCompactV2",
  "packetSize": 128
 },
 "initialExtent": {
  "xmin": 6127122.624211272,
  "ymin": 1960169.4537364473,
  "xmax": 6140833.173388716,
  "ymax": 1979553.3336080057,
  "spatialReference": {
   "wkid": 103005,
   "latestWkid": 6420,
   "xyTolerance": 0.003280833333333333,
   "zTolerance": 0.001,
   "mTolerance": 0.001,
   "falseX": -115860600,
   "falseY": -93269500,
   "xyUnits": 3.678742734568671E7,
   "falseZ": -100000,
   "zUnits": 10000,
   "falseM": -100000,
   "mUnits": 10000
  }
 },
 "fullExtent": {
  "xmin": 6108160.512999997,
  "ymin": 1938126.3745000064,
  "xmax": 6155477.366349995,
  "ymax": 1992365.0635499954,
  "spatialReference": {
   "wkid": 103005,
   "latestWkid": 6420,
   "xyTolerance": 0.003280833333333333,
   "zTolerance": 0.001,
   "mTolerance": 0.001,
   "falseX": -115860600,
   "falseY": -93269500,
   "xyUnits": 3.678742734568671E7,
   "falseZ": -100000,
   "zUnits": 10000,
   "falseM": -100000,
   "mUnits": 10000
  }
 },
 "datesInUnknownTimezone": false,
 "minScale": 500000,
 "maxScale": 480,
 "units": "esriFeet",
 "supportedImageFormatTypes": "PNG32,PNG24,PNG,JPG,DIB,TIFF,EMF,PS,PDF,GIF,SVG,SVGZ,BMP",
 "documentInfo": {
  "Title": "RegionalPlanning.aprx",
  "Author": "",
  "Comments": "Parcel level data describing zoning codes and general plan designations for the City of Santa Clara, the Center of What's Possible.",
  "Subject": "General Plan Designations and Zoning Codes, by parcel, for the City of Santa Clara",
  "Category": "",
  "AntialiasingMode": "None",
  "TextAntialiasingMode": "Force",
  "Version": "2.9.0",
  "Keywords": "Santa Clara,Zoning,General Plan"
 },
 "capabilities": "Query,Map,Data",
 "supportedQueryFormats": "JSON, geoJSON, PBF",
 "hasVersionedData": true,
 "exportTilesAllowed": false,
 "referenceScale": 0.0,
 "supportsDatumTransformation": true,
 "archivingInfo": {
  "supportsHistoricMoment": true
 },
 "supportsClipping": true,
 "supportsSpatialFilter": true,
 "supportsTimeRelation": true,
 "supportsQueryDataElements": true,
 "maxRecordCount": 1000,
 "maxImageHeight": 4096,
 "maxImageWidth": 4096,
 "supportedExtensions": ""
}
