{
 "currentVersion": 10.91,
 "cimVersion": "2.9.0",
 "serviceDescription": "Contains the site addresses within the City of Santa Clara.",
 "mapName": "Layers",
 "description": "These layers are published as a service by the City of Santa Clara, the Center of What's Possible",
 "copyrightText": "City of Santa Clara",
 "supportsDynamicLayers": true,
 "layers": [
  {
   "id": 0,
   "name": "Addresses",
   "parentLayerId": -1,
   "defaultVisibility": true,
   "subLayerIds": [
    1,
    2
   ],
   "minScale": 0,
   "maxScale": 0,
   "type": "Group Layer",
   "supportsDynamicLegends": false
  },
  {
   "id": 1,
   "name": "Sub Addresses",
   "parentLayerId": 0,
   "defaultVisibility": true,
   "subLayerIds": null,
   "minScale": 600,
   "maxScale": 20,
   "type": "Feature Layer",
   "geometryType": "esriGeometryPoint",
   "supportsDynamicLegends": true
  },
  {
   "id": 2,
   "name": "Site Addresses",
   "parentLayerId": 0,
   "defaultVisibility": true,
   "subLayerIds": null,
   "minScale": 4500,
   "maxScale": 20,
   "type": "Feature Layer",
   "geometryType": "esriGeometryPoint",
   "supportsDynamicLegends": true
  },
  {
   "id": 3,
   "name": "Streets",
   "parentLayerId": -1,
   "defaultVisibility": true,
   "subLayerIds": null,
   "minScale": 40000,
   "maxScale": 20,
   "type": "Feature Layer",
   "geometryType": "esriGeometryPolyline",
   "supportsDynamicLegends": true
  },
  {
   "id": 4,
   "name": "Park",
   "parentLayerId": -1,
   "defaultVisibility": true,
   "subLayerIds": null,
   "minScale": 50000,
   "maxScale": 20,
   "type": "Feature Layer",
   "geometryType": "esriGeometryPolygon",
   "supportsDynamicLegends": true
  },
  {
   "id": 5,
   "name": "Parcels",
   "parentLayerId": -1,
   "defaultVisibility": true,
   "subLayerIds": [
    6,
    7
   ],
   "minScale": 50000,
   "maxScale": 0,
   "type": "Group Layer",
   "supportsDynamicLegends": false
  },
  {
   "id": 6,
   "name": "Air Parcels",
   "parentLayerId": 5,
   "defaultVisibility": true,
   "subLayerIds": null,
   "minScale": 0,
   "maxScale": 20,
   "type": "Feature Layer",
   "geometryType": "esriGeometryPolygon",
   "supportsDynamicLegends": true
  },
  {
   "id": 7,
   "name": "Land Parcels",
   "parentLayerId": 5,
   "defaultVisibility": true,
   "subLayerIds": null,
   "minScale": 0,
   "maxScale": 20,
   "type": "Feature Layer",
   "geometryType": "esriGeometryPolygon",
   "supportsDynamicLegends": true
  }
 ],
 "tables": [
  {
   "id": 8,
   "name": "INFOMAP.dbo.ALLAPNS",
   "type": "Table"
  }
 ],
 "spatialReference": {
  "wkid": 103005,
  "latestWkid": 6420,
  "xyTolerance": 0.003280833333333333,
  "zTolerance": 0.001,
  "mTolerance": 0.001,
  "falseX": -115860600,
  "falseY": -93269500,
  "xyUnits": 3.678742734568671E7,
  "falseZ": -100000,
  "zUnits": 10000,
  "falseM": -100000,
  "mUnits": 10000
 },
 "singleFusedMapCache": true,
 "tileInfo": {
  "rows": 256,
  "cols": 256,
  "dpi": 96,
  "format": "PNG32",
  "compressionQuality": 0,
  "origin": {
   "x": -115860600,
   "y": 151575000
  },
  "spatialReference": {
   "wkid": 103005,
   "latestWkid": 6420,
   "xyTolerance": 0.003280833333333333,
   "zTolerance": 0.001,
   "mTolerance": 0.001,
   "falseX": -115860600,
   "falseY": -93269500,
   "xyUnits": 3.678742734568671E7,
   "falseZ": -100000,
   "zUnits": 10000,
   "falseM": -100000,
   "mUnits": 10000
  },
  "lods": [
   {
    "level": 0,
    "resolution": 108.50694444444444,
    "scale": 125000
   },
   {
    "level": 1,
    "resolution": 55.55555555555555,
    "scale": 64000
   },
   {
    "level": 2,
    "resolution": 27.777777777777775,
    "scale": 32000
   },
   {
    "level": 3,
    "resolution": 13.888888888888888,
    "scale": 16000
   },
   {
    "level": 4,
    "resolution": 6.944444444444444,
    "scale": 8000
   },
   {
    "level": 5,
    "resolution": 3.472222222222222,
    "scale": 4000
   }
  ]
 },
 "storageInfo": {
  "storageFormat": "esriMapCacheStorageModeCompactV2",
  "packetSize": 128
 },
 "initialExtent": {
  "xmin": 6127350.593169448,
  "ymin": 1962014.6680099554,
  "xmax": 6128117.774317822,
  "ymax": 1963099.303426622,
  "spatialReference": {
   "wkid": 103005,
   "latestWkid": 6420,
   "xyTolerance": 0.003280833333333333,
   "zTolerance": 0.001,
   "mTolerance": 0.001,
   "falseX": -115860600,
   "falseY": -93269500,
   "xyUnits": 3.678742734568671E7,
   "falseZ": -100000,
   "zUnits": 10000,
   "falseM": -100000,
   "mUnits": 10000
  }
 },
 "fullExtent": {
  "xmin": 6114674.450499997,
  "ymin": 1936503.117750004,
  "xmax": 6152456.564549997,
  "ymax": 1992388.359099999,
  "spatialReference": {
   "wkid": 103005,
   "latestWkid": 6420,
   "xyTolerance": 0.003280833333333333,
   "zTolerance": 0.001,
   "mTolerance": 0.001,
   "falseX": -115860600,
   "falseY": -93269500,
   "xyUnits": 3.678742734568671E7,
   "falseZ": -100000,
   "zUnits": 10000,
   "falseM": -100000,
   "mUnits": 10000
  }
 },
 "datesInUnknownTimezone": false,
 "minScale": 125000,
 "maxScale": 4000,
 "units": "esriFeet",
 "supportedImageFormatTypes": "PNG32,PNG24,PNG,JPG,DIB,TIFF,EMF,PS,PDF,GIF,SVG,SVGZ,BMP",
 "documentInfo": {
  "Title": "RegionalBaseOpenData.aprx",
  "Author": "",
  "Comments": "These layers are published as a service by the City of Santa Clara, the Center of What's Possible",
  "Subject": "Parcels, Address, and Streets layers for the City of Santa Clara, Ca",
  "Category": "",
  "AntialiasingMode": "None",
  "TextAntialiasingMode": "Force",
  "Version": "2.9.0",
  "Keywords": "Santa Clara,address,basemap"
 },
 "capabilities": "Query,Map,Data",
 "supportedQueryFormats": "JSON, geoJSON, PBF",
 "exportTilesAllowed": false,
 "referenceScale": 0.0,
 "supportsDatumTransformation": true,
 "archivingInfo": {
  "supportsHistoricMoment": false
 },
 "supportsClipping": true,
 "supportsSpatialFilter": true,
 "supportsTimeRelation": true,
 "supportsQueryDataElements": true,
 "maxRecordCount": 100000,
 "maxImageHeight": 4096,
 "maxImageWidth": 4096,
 "supportedExtensions": ""
}
